BEGIN:VCALENDAR
VERSION:2.0
PRODID:-//eventon.com NONSGML v1.0//EN
BEGIN:VEVENT
UID:69e9322ac5ac6
DTSTAMP:20260422T164010
DTSTART:20260409T203000Z
DTEND:20260410T035000Z
LOCATION:
SUMMARY:Fundamentals of Welding and Intermediate Course - Scranton Campus
DESCRIPTION: We're enrolling students in our next Fundamentals of Welding Course\,  plus any one Intermediate class\,  beginning April 9\,  2026\,  and running through June 27\,  2026\,  on Thursdays\,  Fridays\,  and Saturdays from 4:30 pm - 8:00 pm at our Scranton Campus. Space is very limited. Students will learn the basics of the[..]
END:VEVENT
END:VCALENDAR