BEGIN:VCALENDAR
VERSION:2.0
PRODID:-//eventon.com NONSGML v1.0//EN
BEGIN:VEVENT
UID:69e9322067bcb
DTSTAMP:20260422T164000
DTSTART:20260417T160000Z
DTEND:20260417T210000Z
LOCATION:Johnson College - Scranton Campus 3427 N. Main Avenue
SUMMARY:Refrigerant Recycling Event - Day 1
DESCRIPTION: We are hosting a Refrigerant Recycling Event on our Scranton campus! Register to participate at Johnson.edu/recycle. Friday\,  April 17\,  2026\,  from 12 to 5 p.m.Saturday\,  April 18\,  2026\,  from 10 a.m. to 3 p.m. Johnson College HVAC students\,  staff\,  and volunteers will safely remove refrigerants\,  ensuring proper disposal and preventing the[..]
END:VEVENT
END:VCALENDAR