BEGIN:VCALENDAR
VERSION:2.0
PRODID:-//eventon.com NONSGML v1.0//EN
BEGIN:VEVENT
UID:69e9327d58ab9
DTSTAMP:20260422T164133
DTSTART:20260418T140000Z
DTEND:20260418T190000Z
LOCATION:Johnson College - Scranton Campus 3427 N. Main Avenue
SUMMARY:Refrigerant Recycling Event - Day 2
DESCRIPTION: We are hosting a Refrigerant Recycling Event on our Scranton campus! Register to participate at Johnson.edu/recycle. Friday\,  April 17\,  2026\,  from 12 to 5 p.m.Saturday\,  April 18\,  2026\,  from 10 a.m. to 3 p.m. Johnson College HVAC students\,  staff\,  and volunteers will safely remove refrigerants\,  ensuring proper disposal and preventing the[..]
END:VEVENT
END:VCALENDAR