BEGIN:VCALENDAR
VERSION:2.0
PRODID:-//eventon.com NONSGML v1.0//EN
BEGIN:VEVENT
UID:69e9336c99481
DTSTAMP:20260422T164532
DTSTART:20260401T213000Z
DTEND:20260401T233000Z
LOCATION:Johnson College - Scranton Campus 3427 N. Main Avenue
SUMMARY:String Art Workshop
DESCRIPTION: Get creative and craft your own custom string art masterpiece! In this hands-on class\,  participants will learn how to design\,  hammer\,  and weave string to create eye-catching patterns and personalized décor. Perfect for beginners and experienced crafters alike\,  this workshop provides step-by-step guidance in a fun and supportive environment. Leave[..]
END:VEVENT
END:VCALENDAR