BEGIN:VCALENDAR
VERSION:2.0
PRODID:-//eventon.com NONSGML v1.0//EN
BEGIN:VEVENT
UID:69e93222573fa
DTSTAMP:20260422T164002
DTSTART:20260401T160000Z
DTEND:20260402T035000Z
LOCATION:
SUMMARY:Student Veterans of American Cornhole Fundraiser
DESCRIPTION: Join us on April 25\,  2026\,  at our Scranton campus for our Student Veterans of America Cornhole Fundraiser. Registration Fees: $40 per team if paid in advance $50 per team if paid at the door (cash only) Doors open at 10:30AM\,  and the first round kicks off at 12:00 PM.[..]
END:VEVENT
END:VCALENDAR